BEGIN:VCALENDAR
VERSION:2.0
PRODID:-//ChamberMaster//Event Calendar 2.0//EN
METHOD:PUBLISH
X-PUBLISHED-TTL:P3D
REFRESH-INTERVAL:P3D
CALSCALE:GREGORIAN
BEGIN:VEVENT
DTSTART:20260308T200000Z
DTEND:20260308T210000Z
X-MICROSOFT-CDO-ALLDAYEVENT:FALSE
SUMMARY:Gentle Movement and Restoration: Winter Series
DESCRIPTION:Life can be stressful and overwhelming sometimes. Give yourself the gift of self-care with a 5-week series of Gentle Movement and Restoration classes that will address exhaustion\, anxiety and stress. Each class includes gentle movement\, restorative postures\, mindful breathing\, meditation\, reiki\, and essential oils\; all with calming music playing in the background. No experience (or special clothing) needed\, all are welcome. Bring your own yoga mat or use a studio mat.
X-ALT-DESC;FMTTYPE=text/html:Life can be stressful and overwhelming sometimes. Give yourself the gift of self-care with a 5-week series of Gentle Movement and Restoration classes that will address exhaustion\, anxiety and stress. Each class includes gentle movement\, restorative postures\, mindful breathing\, meditation\, reiki\, and essential oils\; all with calming music playing in the background. No experience (or special clothing) needed\, all are welcome. Bring your own yoga mat or use a studio mat.
LOCATION:Philip Heit Center 150 W. Main St. New Albany\, OH 43054
UID:e.304.21415
SEQUENCE:3
DTSTAMP:20260425T205431Z
URL:https://cm.newalbanychamber.com/events/details/gentle-movement-and-restoration-winter-series-03-08-2026-21415
END:VEVENT

END:VCALENDAR
