BEGIN:VCALENDAR
VERSION:2.0
PRODID:-//ChamberMaster//Event Calendar 2.0//EN
METHOD:PUBLISH
X-PUBLISHED-TTL:P3D
REFRESH-INTERVAL:P3D
CALSCALE:GREGORIAN
BEGIN:VEVENT
DTSTART;VALUE=DATE:20100313
DTEND;VALUE=DATE:20100314
TRANSP:TRANSPARENT
X-MICROSOFT-CDO-ALLDAYEVENT:TRUE
SUMMARY:Giving Green for Green Fundraiser
DESCRIPTION:Join Haley Gallery on Saturday\, March 13th\, from 7:00 until 9:00 pm for Giving Green for Green sponsored by the New Albany Field Hockey Club. The event will be held at Hayley Gallery\, 45 Second Street\, New Albany\, 43054. Mingle with friends\, enjoy great food and beverages and\, above all\, take part in something that will benefits the students of New Albany. This is an adult only event. Only 100 tickets will be sold and must be purchased in advance at Hayley Gallery for $10.00 each - cash or check.For more information call Hayley Savage at 614-855-4856.
X-ALT-DESC;FMTTYPE=text/html:<div>Join Haley Gallery on Saturday\, March 13th\, from 7:00 until 9:00 pm for Giving Green for Green sponsored by the New Albany Field Hockey Club. The&nbsp\;event will be held at Hayley Gallery\, 45 Second Street\,&nbsp\;New Albany\, 43054.&nbsp\;Mingle with friends\, enjoy great food and beverages and\, above all\, take part in something that will benefits the students of New Albany. This is an adult only event. Only 100 tickets will be sold and must be purchased in advance at Hayley Gallery for $10.00 each - cash or check.</div><div>For more information call Hayley Savage at 614-855-4856.</div>
LOCATION:
UID:e.304.604
SEQUENCE:3
DTSTAMP:20260421T102620Z
URL:https://cm.newalbanychamber.com/events/details/giving-green-for-green-fundraiser-03-13-2010-604
END:VEVENT

END:VCALENDAR
