BEGIN:VCALENDAR
VERSION:2.0
PRODID:-//ChamberMaster//Event Calendar 2.0//EN
METHOD:PUBLISH
X-PUBLISHED-TTL:P3D
REFRESH-INTERVAL:P3D
CALSCALE:GREGORIAN
BEGIN:VEVENT
DTSTART;VALUE=DATE:20100413
DTEND;VALUE=DATE:20100414
TRANSP:TRANSPARENT
X-MICROSOFT-CDO-ALLDAYEVENT:TRUE
SUMMARY:Golf Task Force 2010 #2
DESCRIPTION:The New Albany Chamber of Commerce extends an invitation for members to join the Golf Task Force of 2010! Members who join this team will help plan and execute the New Albany Chamber's Annual Golf Tournament.This second planning session will be on Tuesday\, April 13th\, from 11:30 am until 1:00 pm. It will be held at the Bob Evans Restaurant\, 5205 New Albany Road\, New Albany 43054.For more information call 614-855-4400 or email Eileen Leuby at director@newalbanychamber.com.
X-ALT-DESC;FMTTYPE=text/html:<div>The New Albany Chamber of Commerce extends an invitation for members to join the Golf Task Force of 2010! Members who join this team will help plan and execute the New Albany Chamber's Annual Golf Tournament.</div><div>This second planning session will be on Tuesday\, April 13th\, from 11:30 am until 1:00 pm. It will be held at the Bob Evans Restaurant\, 5205 New Albany Road\, New Albany 43054.</div><div>For more information call 614-855-4400 or email Eileen Leuby at <a href="mailto:director@newalbanychamber.com">director@newalbanychamber.com</a>.</div>
LOCATION:Bob Evans Restaurant5205 New Albany RoadNew Albany\, Ohio 43054
UID:e.304.621
SEQUENCE:3
DTSTAMP:20260421T080949Z
URL:https://cm.newalbanychamber.com/events/details/golf-task-force-2010-2-04-13-2010-621
END:VEVENT

END:VCALENDAR
