BEGIN:VCALENDAR
VERSION:2.0
PRODID:-//ChamberMaster//Event Calendar 2.0//EN
METHOD:PUBLISH
X-PUBLISHED-TTL:P3D
REFRESH-INTERVAL:P3D
CALSCALE:GREGORIAN
BEGIN:VEVENT
DTSTART;VALUE=DATE:20100511
DTEND;VALUE=DATE:20100512
TRANSP:TRANSPARENT
X-MICROSOFT-CDO-ALLDAYEVENT:TRUE
SUMMARY:Golf Task Force 2010 #3
DESCRIPTION:The New Albany Chamber of Commerce extends an invitation for members to join the Golf Task Force of 2010! Members who join this team will help plan and execute the New Albany Chamber's Annual Golf Tournament.This final planning session will be on Tuesday\, May 11th\, from 11:30 am until 1:00 pm. It will be held at the First Watch Restaurant\, 4770 Morse Road\, Columbus\, 43230.For more information call 614-855-4400 or email Eileen Leuby at director@newalbanychamber.com.
X-ALT-DESC;FMTTYPE=text/html:<div><div>The New Albany Chamber of Commerce extends an invitation for members to join the Golf Task Force of 2010! Members who join this team will help plan and execute the New Albany Chamber's Annual Golf Tournament.</div><div>This&nbsp\;final planning session will be on Tuesday\, May 11th\, from 11:30 am until 1:00 pm. It will be held at&nbsp\;the First Watch Restaurant\, 4770 Morse Road\,&nbsp\;Columbus\, 43230.</div><div>For more information call 614-855-4400 or email Eileen Leuby at <a href="mailto:director@newalbanychamber.com">director@newalbanychamber.com</a>.</div></div>
LOCATION:First Watch Restaurant4770 Morse RoadColumbus\, Ohio 43230
UID:e.304.622
SEQUENCE:3
DTSTAMP:20260421T052951Z
URL:https://cm.newalbanychamber.com/events/details/golf-task-force-2010-3-05-11-2010-622
END:VEVENT

END:VCALENDAR
