BEGIN:VCALENDAR
VERSION:2.0
PRODID:-//ChamberMaster//Event Calendar 2.0//EN
METHOD:PUBLISH
X-PUBLISHED-TTL:P3D
REFRESH-INTERVAL:P3D
CALSCALE:GREGORIAN
BEGIN:VEVENT
DTSTART;VALUE=DATE:20080213
DTEND;VALUE=DATE:20080214
TRANSP:TRANSPARENT
X-MICROSOFT-CDO-ALLDAYEVENT:TRUE
SUMMARY:Golf Task Force meeting
DESCRIPTION:Golf Task Force meeting
X-ALT-DESC;FMTTYPE=text/html:<div>Golf Task Force meeting</div>
LOCATION:New Albany Links Golf Club7100 New Albany Links Drive
UID:e.304.176
SEQUENCE:3
DTSTAMP:20260424T084449Z
URL:https://cm.newalbanychamber.com/events/details/golf-task-force-meeting-02-13-2008-176
END:VEVENT

END:VCALENDAR
