BEGIN:VCALENDAR
VERSION:2.0
PRODID:-//ChamberMaster//Event Calendar 2.0//EN
METHOD:PUBLISH
X-PUBLISHED-TTL:P3D
REFRESH-INTERVAL:P3D
CALSCALE:GREGORIAN
BEGIN:VEVENT
DTSTART:20090217T170000Z
DTEND:20090217T180000Z
X-MICROSOFT-CDO-ALLDAYEVENT:FALSE
SUMMARY:Golf Task Force meeting
DESCRIPTION:Golf Task Force Meeting-This Task force will help in the organization of the Annual Golf Classic scheduled for Monday June 9th at the New Albany Country Club.
X-ALT-DESC;FMTTYPE=text/html:<div>Golf Task Force Meeting-This Task force will help in the organization of the Annual Golf Classic scheduled for Monday June 9th at the New Albany Country Club.</div>
LOCATION:Chamber office220 Market Street\, Suite 204Conference Room
UID:e.304.417
SEQUENCE:3
DTSTAMP:20260422T051909Z
URL:https://cm.newalbanychamber.com/events/details/golf-task-force-meeting-02-17-2009-417
END:VEVENT

END:VCALENDAR
