BEGIN:VCALENDAR
VERSION:2.0
PRODID:-//ChamberMaster//Event Calendar 2.0//EN
METHOD:PUBLISH
X-PUBLISHED-TTL:P3D
REFRESH-INTERVAL:P3D
CALSCALE:GREGORIAN
BEGIN:VEVENT
DTSTART;VALUE=DATE:20080501
DTEND;VALUE=DATE:20080502
TRANSP:TRANSPARENT
X-MICROSOFT-CDO-ALLDAYEVENT:TRUE
SUMMARY:Government Day
DESCRIPTION:The third annual Government Day.  This event promises to be an impressive display of unity among our region's businesses.  It also provides members with an additional opportunity to meet face to face with the Central Ohio members of the General Assembly that represent them.
X-ALT-DESC;FMTTYPE=text/html:<div>The third annual Government Day.&nbsp\; This event promises to be an impressive display of unity among our region's businesses.&nbsp\; It also provides members with an additional opportunity to meet face to face with the Central Ohio members of the General Assembly that represent them.</div>
LOCATION:The Athletic Club of Columbus136 East Broad StreetColumbus\, OH 43215
UID:e.304.205
SEQUENCE:3
DTSTAMP:20260422T174949Z
URL:https://cm.newalbanychamber.com/events/details/government-day-05-01-2008-205
END:VEVENT

END:VCALENDAR
