BEGIN:VCALENDAR
VERSION:2.0
PRODID:-//ChamberMaster//Event Calendar 2.0//EN
METHOD:PUBLISH
X-PUBLISHED-TTL:P3D
REFRESH-INTERVAL:P3D
CALSCALE:GREGORIAN
BEGIN:VEVENT
DTSTART;VALUE=DATE:20100502
DTEND;VALUE=DATE:20100503
TRANSP:TRANSPARENT
X-MICROSOFT-CDO-ALLDAYEVENT:TRUE
SUMMARY:Grand Opening Celebration of Wndsong
DESCRIPTION:Windsong Masage & Therapies\, Inc.\, invites you to celebrate their opening in New Albany on Sunday\, May 2\, from 1:00 until 4:00pm. Guests will enjoy complimentary refreshments\, prizes\, and fun. It will be help at 97A East Main Street of New Albany\, 43054. RSVP by Thursday\, April 29\, via telephone\, 614-775-9942\, or email\, info@windsongnewalbany.com.
X-ALT-DESC;FMTTYPE=text/html:<div>Windsong Masage &amp\;&nbsp\;Therapies\, Inc.\, invites you to celebrate their opening in New Albany on Sunday\, May 2\, from 1:00 until 4:00pm. Guests will enjoy complimentary refreshments\, prizes\, and fun. It will be help at 97A&nbsp\;East Main Street of New Albany\, 43054. RSVP by Thursday\, April 29\, via telephone\, 614-775-9942\, or email\, <a href="mailto:info@windsongnewalbany.com">info@windsongnewalbany.com</a>.</div>
LOCATION:97A East Main StreetNew Albany\, Ohio 43054
UID:e.304.644
SEQUENCE:3
DTSTAMP:20260421T053713Z
URL:https://cm.newalbanychamber.com/events/details/grand-opening-celebration-of-wndsong-05-02-2010-644
END:VEVENT

END:VCALENDAR
