BEGIN:VCALENDAR
VERSION:2.0
PRODID:-//ChamberMaster//Event Calendar 2.0//EN
METHOD:PUBLISH
X-PUBLISHED-TTL:P3D
REFRESH-INTERVAL:P3D
CALSCALE:GREGORIAN
BEGIN:VEVENT
DTSTART:20260603T203000Z
DTEND:20260603T203000Z
X-MICROSOFT-CDO-ALLDAYEVENT:FALSE
SUMMARY:Groundbreaking Ceremony for Fire Station 122
DESCRIPTION:Please mark your calendar and join us for a special milestone event!\n\n\n\nThe Plain Township Fire Department is proud to announce the groundbreaking ceremony for Station 122. We invite you to be part of this exciting moment as we take the first step toward enhancing service and safety in our community.
X-ALT-DESC;FMTTYPE=text/html:<br />\nPlease mark your calendar and join us for a special milestone event!<br />\n<br />\nThe Plain Township Fire Department is proud to announce the groundbreaking ceremony for Station 122. We invite you to be part of this exciting moment as we take the first step toward enhancing service and safety in our community.
LOCATION:
UID:e.304.21946
SEQUENCE:3
DTSTAMP:20260420T191801Z
URL:https://cm.newalbanychamber.com/events/details/groundbreaking-ceremony-for-fire-station-122-21946
END:VEVENT

END:VCALENDAR
