BEGIN:VCALENDAR
VERSION:2.0
PRODID:-//ChamberMaster//Event Calendar 2.0//EN
METHOD:PUBLISH
X-PUBLISHED-TTL:P3D
REFRESH-INTERVAL:P3D
CALSCALE:GREGORIAN
BEGIN:VEVENT
DTSTART:20100629T173000Z
DTEND:20100629T190000Z
X-MICROSOFT-CDO-ALLDAYEVENT:FALSE
SUMMARY:Grow Your Business & You!
DESCRIPTION:Looking for ways to get connected in the central Ohio business community?  \n\n\n\nJoin Cat Bauman\, Columbus Business First's Grow Your Business and You workshop presenter\, for an interactive workshop that will teach you how Columbus Business First's publication can assist you in finding leads and building relationships in the central Ohio business community.  This workshop will assist you in growing your business\, while professionally developing yourself!\n\n\n\nFor more information and registration visit: www.ColumbusBusinessFirst.com/event/26361
X-ALT-DESC;FMTTYPE=text/html:Looking for ways to get connected in the central Ohio business community?  \n<br>\n<br>Join Cat Bauman\, Columbus Business First's Grow Your Business and You workshop presenter\, for an interactive workshop that will teach you how Columbus Business First's publication can assist you in finding leads and building relationships in the central Ohio business community.  This workshop will assist you in growing your business\, while professionally developing yourself!\n<br>\n<br>For more information and registration visit: www.ColumbusBusinessFirst.com/event/26361
LOCATION:Columbus Business First\, 303 W Nationwide Blvd\, Columbus\, OH 43215
UID:e.304.662
SEQUENCE:3
DTSTAMP:20260421T035504Z
URL:https://cm.newalbanychamber.com/events/details/grow-your-business-you-06-29-2010-662
END:VEVENT

END:VCALENDAR
