BEGIN:VCALENDAR
VERSION:2.0
PRODID:-//ChamberMaster//Event Calendar 2.0//EN
METHOD:PUBLISH
X-PUBLISHED-TTL:P3D
REFRESH-INTERVAL:P3D
CALSCALE:GREGORIAN
BEGIN:VEVENT
DTSTART:20100423T113000Z
DTEND:20100423T130000Z
X-MICROSOFT-CDO-ALLDAYEVENT:FALSE
SUMMARY:Grow Your Business & You Digitally!
DESCRIPTION:Join us for an interactive workshop that teaches you how to get all the information you need from Columbus Business First's weekly newspaper and Book of List! \n\n\n\nhttp://columbus.bizjournals.com/columbus/event/21341
X-ALT-DESC;FMTTYPE=text/html:Join us for an interactive workshop that teaches you how to get all the information you need from Columbus Business First's weekly newspaper and Book of List! \n<br>\n<br>http://columbus.bizjournals.com/columbus/event/21341\n<br> \n<br>
LOCATION:Columbus Business First 303 W. Nationwide Blvd. Columbus\, OH 43215
UID:e.304.637
SEQUENCE:3
DTSTAMP:20260421T072209Z
URL:https://cm.newalbanychamber.com/events/details/grow-your-business-you-digitally-04-23-2010-637
END:VEVENT

END:VCALENDAR
