BEGIN:VCALENDAR
VERSION:2.0
PRODID:-//ChamberMaster//Event Calendar 2.0//EN
METHOD:PUBLISH
X-PUBLISHED-TTL:P3D
REFRESH-INTERVAL:P3D
CALSCALE:GREGORIAN
BEGIN:VEVENT
DTSTART:20080416T213000Z
DTEND:20080416T160000Z
X-MICROSOFT-CDO-ALLDAYEVENT:FALSE
SUMMARY:Happy Hour with NAWN
DESCRIPTION:Happy Hour with the New Albany Women's Network will be held at Mezzo Italian Kitchen and Wine\, located in Gahanna's Creekside.  Please RSVP to Nicol Remeis at: 939-0192 or social@NAWN.org. by April 15th.
X-ALT-DESC;FMTTYPE=text/html:Happy Hour with the New Albany Women's Network will be held at Mezzo Italian Kitchen and Wine\, located in Gahanna's Creekside.  Please RSVP to Nicol Remeis at: 939-0192 or social@NAWN.org. by April 15th.
LOCATION:Mezzo Italian Kitchen and Wine Gahanna Creekside
UID:e.304.220
SEQUENCE:3
DTSTAMP:20260422T200900Z
URL:https://cm.newalbanychamber.com/events/details/happy-hour-with-nawn-04-16-2008-220
END:VEVENT

END:VCALENDAR
