BEGIN:VCALENDAR
VERSION:2.0
PRODID:-//ChamberMaster//Event Calendar 2.0//EN
METHOD:PUBLISH
X-PUBLISHED-TTL:P3D
REFRESH-INTERVAL:P3D
CALSCALE:GREGORIAN
BEGIN:VEVENT
DTSTART:20101009T150000Z
DTEND:20101009T200000Z
X-MICROSOFT-CDO-ALLDAYEVENT:FALSE
SUMMARY:Harvest the Arts Festival
DESCRIPTION:New Albany Arts Council presents 17th Annual Harvest the Arts Festival celebrating the cultural heritage of the community.  Features arts and crafts marketplace\, continuous live entertainment\, cake walks\, down home cooking\, childrens games and activities.
X-ALT-DESC;FMTTYPE=text/html:New Albany Arts Council presents 17th Annual Harvest the Arts Festival celebrating the cultural heritage of the community.  Features arts and crafts marketplace\, continuous live entertainment\, cake walks\, down home cooking\, childrens games and activities.
LOCATION:Doran's Farm Market\, 5462 Babbitt Rd.\, New Albany\, Oh
UID:e.304.543
SEQUENCE:3
DTSTAMP:20260420T211137Z
URL:https://cm.newalbanychamber.com/events/details/harvest-the-arts-festival-10-09-2010-543
END:VEVENT

END:VCALENDAR
