BEGIN:VCALENDAR
VERSION:2.0
PRODID:-//ChamberMaster//Event Calendar 2.0//EN
METHOD:PUBLISH
X-PUBLISHED-TTL:P3D
REFRESH-INTERVAL:P3D
CALSCALE:GREGORIAN
BEGIN:VEVENT
DTSTART:20081011T140000Z
DTEND:20081011T200000Z
X-MICROSOFT-CDO-ALLDAYEVENT:FALSE
SUMMARY:Harvest the Arts Festival
DESCRIPTION:Harvest the Arts Festival sponsored by the New Albany Arts Council
X-ALT-DESC;FMTTYPE=text/html:<div>Harvest the Arts Festival sponsored by the New Albany Arts Council</div>
LOCATION:Doran's FarmBabbitt Road\, New Albany
UID:e.304.167
SEQUENCE:3
DTSTAMP:20260422T102201Z
URL:https://cm.newalbanychamber.com/events/details/harvest-the-arts-festival-10-11-2008-167
END:VEVENT

END:VCALENDAR
