BEGIN:VCALENDAR
VERSION:2.0
PRODID:-//ChamberMaster//Event Calendar 2.0//EN
METHOD:PUBLISH
X-PUBLISHED-TTL:P3D
REFRESH-INTERVAL:P3D
CALSCALE:GREGORIAN
BEGIN:VEVENT
DTSTART:20091010T150000Z
DTEND:20091010T200000Z
X-MICROSOFT-CDO-ALLDAYEVENT:FALSE
SUMMARY:Harvest the Arts Festival at Doran's Farm
DESCRIPTION:Harvest the Arts FestivalDoran's Farm Market Sponsored by the New Albany Arts Council With live entertainment from Broadway Bound Dance Centre\, Juggler Matt jergens\, The New Albany Chorus and Northwest Territory.  Featuring Arts & Crafts Marketplace\, cake walks\, down home cooking with all the fixin's and children's area games\, prizes and pumpkin and face painting. Corporate sponsors:  R. Keith Morris and Giant Eagle
X-ALT-DESC;FMTTYPE=text/html:<div><span style="font-size: larger"><strong>Harvest the Arts Festival</strong></span></div><div><span style="font-size: larger"><strong>Doran&rsquo\;s Farm Market</strong></span></div><div>&nbsp\;</div><div>Sponsored by the New Albany Arts Council</div><div>&nbsp\;</div><div>With live entertainment from Broadway Bound Dance Centre\, Juggler Matt jergens\, The New Albany Chorus and Northwest Territory.&nbsp\; Featuring Arts &amp\; Crafts Marketplace\, cake walks\, down home cooking with all the fixin's and children's area games\, prizes and pumpkin and face painting.</div><div>&nbsp\;</div><div>Corporate sponsors:&nbsp\; R. Keith Morris and Giant Eagle</div>
LOCATION:Doran's Farm Market5462 Babbitt RoadNew Albany\, Ohio
UID:e.304.382
SEQUENCE:3
DTSTAMP:20260421T161309Z
URL:https://cm.newalbanychamber.com/events/details/harvest-the-arts-festival-at-doran-s-farm-10-10-2009-382
END:VEVENT

END:VCALENDAR
