BEGIN:VCALENDAR
VERSION:2.0
PRODID:-//ChamberMaster//Event Calendar 2.0//EN
METHOD:PUBLISH
X-PUBLISHED-TTL:P3D
REFRESH-INTERVAL:P3D
CALSCALE:GREGORIAN
BEGIN:VEVENT
DTSTART:20211031T220000Z
DTEND:20211101T000000Z
X-MICROSOFT-CDO-ALLDAYEVENT:FALSE
SUMMARY:Haunted Hike through New Albany
DESCRIPTION:Get ready for a haunted hike in your own hometown with Healthy New Albany! We'll meet at the Outdoor Patio of the Philip Heit Center\, then do a local hike (3-5 miles) to see the various haunts! After the hike\, we'll return to the Heit Center for warm drinks and snacks. Our Seasonal Hikes are offered to celebrate the amazing transitions from season to season.
X-ALT-DESC;FMTTYPE=text/html:Get ready for a haunted hike in your own hometown with Healthy New Albany! We&#39\;ll meet at the Outdoor Patio of the Philip Heit Center\, then do a local hike (3-5 miles) to see the various haunts! After the hike\, we&#39\;ll return to the Heit Center for warm drinks and snacks. Our Seasonal Hikes are offered to celebrate the amazing transitions from season to season.
LOCATION:Philip Heit Center for Healthy New Albany 150 W Main St. New Albany\, OH 43054
UID:e.304.14938
SEQUENCE:3
DTSTAMP:20260425T193417Z
URL:https://cm.newalbanychamber.com/events/details/haunted-hike-through-new-albany-14938
END:VEVENT

END:VCALENDAR
