BEGIN:VCALENDAR
VERSION:2.0
PRODID:-//ChamberMaster//Event Calendar 2.0//EN
METHOD:PUBLISH
X-PUBLISHED-TTL:P3D
REFRESH-INTERVAL:P3D
CALSCALE:GREGORIAN
BEGIN:VEVENT
DTSTART;VALUE=DATE:20090816
DTEND;VALUE=DATE:20090817
TRANSP:TRANSPARENT
X-MICROSOFT-CDO-ALLDAYEVENT:TRUE
SUMMARY:Hayley Gallery Opening Reception
DESCRIPTION:Hayley Galley invites you to their Opening Reception\, Private Collection on Sunday\, August 16th from 1pm until 4pm. This is a unique opportunity to purchase original art from the homes of local artists and private collectors. It will feature beautiful art\, as well as delcious food and drink. This spectacular event will be held at 45 Second Street in New Albany\, 43054. For more information visit thier website at www.hayleygallery.com or call 614-855-4856.
X-ALT-DESC;FMTTYPE=text/html:<div>Hayley Galley invites you to their Opening Reception\, Private Collection on Sunday\, August 16th from 1pm until 4pm. This is a unique opportunity to purchase original art from the homes of local artists and private collectors. It will feature beautiful art\, as well as delcious food and drink. This spectacular event will be held at 45 Second Street in New&nbsp\;Albany\, 43054. For more information visit thier website at <a href="http://www.hayleygallery.com">www.hayleygallery.com</a> or call 614-855-4856.</div>
LOCATION:
UID:e.304.488
SEQUENCE:3
DTSTAMP:20260421T202356Z
URL:https://cm.newalbanychamber.com/events/details/hayley-gallery-opening-reception-08-16-2009-488
END:VEVENT

END:VCALENDAR
