BEGIN:VCALENDAR
VERSION:2.0
PRODID:-//ChamberMaster//Event Calendar 2.0//EN
METHOD:PUBLISH
X-PUBLISHED-TTL:P3D
REFRESH-INTERVAL:P3D
CALSCALE:GREGORIAN
BEGIN:VEVENT
DTSTART;VALUE=DATE:20091203
DTEND;VALUE=DATE:20091216
TRANSP:TRANSPARENT
X-MICROSOFT-CDO-ALLDAYEVENT:TRUE
SUMMARY:Help Fight Hunger
DESCRIPTION:Beginning Thursday\, December 3\, until Monday\, December 15\, visit America's Urgent Care at any six clinics\, including New Albany\,  to drop off your canned goods or non-perishable food donations to help fight hunger here\, in Cenral Ohio. Every donation will go directly to the Mid-Ohio Foodbank's fight against hunger this holiday season\; let's ensure everyone has a happy holiday. The New Albany location is at 5610 N. Hamilton Road\, 43230\, open from 8:00 am until 8:00 pm. For more information visit www.AmericasUrgentCare.com or call Mark Adams at 614-433-2038.
X-ALT-DESC;FMTTYPE=text/html:<div>Beginning Thursday\, December 3\, until Monday\, December 15\, visit America's Urgent Care&nbsp\;at any six clinics\, including New Albany\, &nbsp\;to drop off your canned goods or non-perishable food donations to help fight hunger here\, in Cenral Ohio. Every donation will go directly to the Mid-Ohio Foodbank's fight against hunger this holiday season\; let's ensure everyone has a happy&nbsp\;holiday.&nbsp\;The New Albany location is at 5610 N. Hamilton Road\, 43230\, open from 8:00 am until 8:00 pm. For more information visit <a href="http://www.AmericasUrgentCare.com">www.AmericasUrgentCare.com</a> or call Mark Adams at 614-433-2038.</div>
LOCATION:
UID:e.304.554
SEQUENCE:3
DTSTAMP:20260421T130452Z
URL:https://cm.newalbanychamber.com/events/details/help-fight-hunger-12-03-2009-554
END:VEVENT

END:VCALENDAR
