BEGIN:VCALENDAR
VERSION:2.0
PRODID:-//ChamberMaster//Event Calendar 2.0//EN
METHOD:PUBLISH
X-PUBLISHED-TTL:P3D
REFRESH-INTERVAL:P3D
CALSCALE:GREGORIAN
BEGIN:VEVENT
DTSTART:20100322T230000Z
DTEND:20100323T003000Z
X-MICROSOFT-CDO-ALLDAYEVENT:FALSE
SUMMARY:High School Band & Community Band Concert
DESCRIPTION:Celebrate Music-in-our-Schools Month with a concert featuring student in the New Albany High School Bands and their special guest\, the New Albany Community Band.
X-ALT-DESC;FMTTYPE=text/html:Celebrate Music-in-our-Schools Month with a concert featuring student in the New Albany High School Bands and their special guest\, the New Albany Community Band. 
LOCATION:McCoy Center for the Arts
UID:e.304.582
SEQUENCE:3
DTSTAMP:20260421T102729Z
URL:https://cm.newalbanychamber.com/events/details/high-school-band-community-band-concert-03-22-2010-582
END:VEVENT

END:VCALENDAR
