BEGIN:VCALENDAR
VERSION:2.0
PRODID:-//ChamberMaster//Event Calendar 2.0//EN
METHOD:PUBLISH
X-PUBLISHED-TTL:P3D
REFRESH-INTERVAL:P3D
CALSCALE:GREGORIAN
BEGIN:VEVENT
DTSTART:20100323T233000Z
DTEND:20100324T010000Z
X-MICROSOFT-CDO-ALLDAYEVENT:FALSE
SUMMARY:High School Choir Concert
DESCRIPTION:Concert featuring choirs from New Albany High School
X-ALT-DESC;FMTTYPE=text/html:Concert featuring choirs from New Albany High School
LOCATION:McCoy Center for the Arts
UID:e.304.583
SEQUENCE:3
DTSTAMP:20260421T085328Z
URL:https://cm.newalbanychamber.com/events/details/high-school-choir-concert-03-23-2010-583
END:VEVENT

END:VCALENDAR
