BEGIN:VCALENDAR
VERSION:2.0
PRODID:-//ChamberMaster//Event Calendar 2.0//EN
METHOD:PUBLISH
X-PUBLISHED-TTL:P3D
REFRESH-INTERVAL:P3D
CALSCALE:GREGORIAN
BEGIN:VEVENT
DTSTART:20110528T130000Z
DTEND:20110528T190000Z
X-MICROSOFT-CDO-ALLDAYEVENT:FALSE
SUMMARY:Historical Society Big Yard Sale
DESCRIPTION:New Albany-Plain Township Historical Society\n\nBig Yard Sale
X-ALT-DESC;FMTTYPE=text/html:<span style="font-size: 14px"><strong>New Albany-Plain Township Historical Society<br />\nBig Yard Sale</strong></span>
LOCATION:Dyer House 7569 Walnut Street
UID:e.304.808
SEQUENCE:3
DTSTAMP:20260420T113936Z
URL:https://cm.newalbanychamber.com/events/details/historical-society-big-yard-sale-05-28-2011-808
END:VEVENT

END:VCALENDAR
