BEGIN:VCALENDAR
VERSION:2.0
PRODID:-//ChamberMaster//Event Calendar 2.0//EN
METHOD:PUBLISH
X-PUBLISHED-TTL:P3D
REFRESH-INTERVAL:P3D
CALSCALE:GREGORIAN
BEGIN:VEVENT
DTSTART;VALUE=DATE:20091221
DTEND;VALUE=DATE:20091224
TRANSP:TRANSPARENT
X-MICROSOFT-CDO-ALLDAYEVENT:TRUE
SUMMARY:Holiday Art Camp at Purple Dog
DESCRIPTION:The Purple Dog Art Studio invites all children\, grades kindergaten up to fifth\, to their Holiday Art Camp on December 21st\, 22nd\, and 23rd (Monday\, Tuesday\, and Wednesday). This fantastic art camp will be held at 28 S. High Street in New Albany\, 43054. There will be two sessions each day: from 9 am until noon and from 1 pm until 4 pm. Each session costs $40\, which includes all supplies and snacks. Every day will be a different theme\; artists may attend more than one day. For more information call Angela Powers at 614-271-9306\, or visit www.purpledogart.com.
X-ALT-DESC;FMTTYPE=text/html:<div>The Purple Dog Art Studio invites all children\, grades kindergaten up to fifth\, to their Holiday Art Camp on December 21st\, 22nd\, and 23rd (Monday\, Tuesday\, and Wednesday). This fantastic art camp will be held at 28 S. High Street in New Albany\, 43054. There will be two sessions each day:&nbsp\;from&nbsp\;9 am&nbsp\;until noon and from 1 pm until 4 pm. Each session costs $40\, which includes all supplies and snacks. Every day will be a different theme\; artists may attend more than one day. For more information call Angela Powers at 614-271-9306\, or visit <a href="http://www.purpledogart.com">www.purpledogart.com</a>.</div>
LOCATION:
UID:e.304.553
SEQUENCE:3
DTSTAMP:20260421T130920Z
URL:https://cm.newalbanychamber.com/events/details/holiday-art-camp-at-purple-dog-12-21-2009-553
END:VEVENT

END:VCALENDAR
