BEGIN:VCALENDAR
VERSION:2.0
PRODID:-//ChamberMaster//Event Calendar 2.0//EN
METHOD:PUBLISH
X-PUBLISHED-TTL:P3D
REFRESH-INTERVAL:P3D
CALSCALE:GREGORIAN
BEGIN:VEVENT
DTSTART;VALUE=DATE:20081101
DTEND;VALUE=DATE:20081102
TRANSP:TRANSPARENT
X-MICROSOFT-CDO-ALLDAYEVENT:TRUE
SUMMARY:Holiday Bazaar
DESCRIPTION:The New Albany United Methodist Church invites you to their Annual Holiday Bazaar! Vendors and Crafters are welcome. There is something for everyone\, including great stocking stuffers\, gifts\, etc. This bazaar will be held on November 1st from 9am - 4pm. For more information contact Betty Emmons at 614-855-7075 or 614-329-6920 or contact Teri Meade at 614-890-8758.
X-ALT-DESC;FMTTYPE=text/html:<div>The New Albany United Methodist Church invites you to their Annual Holiday Bazaar! Vendors and Crafters are welcome. There is something for everyone\, including great stocking stuffers\, gifts\, etc. This bazaar will be held on November 1st from 9am - 4pm. For more information contact Betty Emmons at 614-855-7075 or 614-329-6920 or contact Teri Meade at 614-890-8758.</div>
LOCATION:
UID:e.304.242
SEQUENCE:3
DTSTAMP:20260422T100730Z
URL:https://cm.newalbanychamber.com/events/details/holiday-bazaar-11-01-2008-242
END:VEVENT

END:VCALENDAR
