BEGIN:VCALENDAR
VERSION:2.0
PRODID:-//ChamberMaster//Event Calendar 2.0//EN
METHOD:PUBLISH
X-PUBLISHED-TTL:P3D
REFRESH-INTERVAL:P3D
CALSCALE:GREGORIAN
BEGIN:VEVENT
DTSTART;VALUE=DATE:20091107
DTEND;VALUE=DATE:20091108
TRANSP:TRANSPARENT
X-MICROSOFT-CDO-ALLDAYEVENT:TRUE
SUMMARY:Holiday Bazaar
DESCRIPTION:The NA Methodist Church located at  20 S Third St. (614-855-1403)...invites vendors and guests to come out and enjoy their Annual Holiday Bazzar 9 a.m. to 3 p.m.   Bake Sales\, Food\, Crafts\, Gifts and more!
X-ALT-DESC;FMTTYPE=text/html:<div>The NA Methodist Church located at &nbsp\;20 S Third St. (614-855-1403)...invites vendors and guests to come out and enjoy their Annual Holiday Bazzar 9 a.m. to 3 p.m.&nbsp\;&nbsp\; Bake Sales\, Food\, Crafts\, Gifts and more!&nbsp\;&nbsp\;</div>
LOCATION:
UID:e.304.279
SEQUENCE:3
DTSTAMP:20260421T143559Z
URL:https://cm.newalbanychamber.com/events/details/holiday-bazaar-11-07-2009-279
END:VEVENT

END:VCALENDAR
