BEGIN:VCALENDAR
VERSION:2.0
PRODID:-//ChamberMaster//Event Calendar 2.0//EN
METHOD:PUBLISH
X-PUBLISHED-TTL:P3D
REFRESH-INTERVAL:P3D
CALSCALE:GREGORIAN
BEGIN:VEVENT
DTSTART:20081207T180000Z
DTEND:20081207T220000Z
X-MICROSOFT-CDO-ALLDAYEVENT:FALSE
SUMMARY:Holiday Celebration 2008
DESCRIPTION:A day of holiday celebrations.  Santa will arrive on a fire truck.  Choirs and dancers will make live performances.  The evening will conclude with the annual tree lighting ceremony and caroling.\n\nRing In the Season!\n\n1-5 Train Rides\n\n       Boy Scouts - Hospitality Table\n\n       Snowflake Making - Chocolate Octopus\n\n       Letters to Santa\n\n1:00 Storytime - Starbucks - "The 12 Days of Christmas"\n\n1:45 Santa Arrives Via Firetruck\n\n1:45-4:30 Santa Vists at the New Albany Library\n\n1-4:30 Ealy House Museum Open - Craft Sale and Open House\n\n             Holiday Temporary Tattoos\n\n             Craft Sations (One in each lobby of Market Street buildings)\n\n             Cookie Stations at Rusty Bucket-private room\n\n            Jingle Bell Horse & Buggy Rides (sponsored by New Albany Realty & New Albany Company)\n\n2-4   Babes in Toyland - Characters in the Square\n\n         purchase tickets to show inside Chocolate Octopus\n\n         Storytime\n\n 2:00 Storytime-Starbucks-"The Nutcracker"\n\n2:30 Storytime - Ealy House-"A Christmas Carol"
X-ALT-DESC;FMTTYPE=text/html:<div>A day of holiday celebrations.&nbsp\; Santa will arrive on a fire truck.&nbsp\; Choirs and dancers will make live performances.&nbsp\; The evening will conclude with the annual tree lighting ceremony and caroling.</div>\n\n<div>Ring In the Season!</div>\n\n<div>1-5 Train Rides</div>\n\n<div>&nbsp\;&nbsp\;&nbsp\;&nbsp\;&nbsp\;&nbsp\; Boy Scouts - Hospitality Table</div>\n\n<div>&nbsp\;&nbsp\;&nbsp\;&nbsp\;&nbsp\;&nbsp\; Snowflake Making - Chocolate Octopus</div>\n\n<div>&nbsp\;&nbsp\;&nbsp\;&nbsp\;&nbsp\;&nbsp\; Letters to Santa</div>\n\n<div>1:00 Storytime - Starbucks - &quot\;The 12 Days of Christmas&quot\;</div>\n\n<div>1:45 Santa Arrives Via Firetruck</div>\n\n<div>1:45-4:30 Santa Vists at the New Albany Library</div>\n\n<div>1-4:30 Ealy House Museum Open - Craft Sale and Open House</div>\n\n<div>&nbsp\;&nbsp\;&nbsp\;&nbsp\;&nbsp\;&nbsp\;&nbsp\;&nbsp\;&nbsp\;&nbsp\;&nbsp\;&nbsp\; Holiday Temporary Tattoos</div>\n\n<div>&nbsp\;&nbsp\;&nbsp\;&nbsp\;&nbsp\;&nbsp\;&nbsp\;&nbsp\;&nbsp\;&nbsp\;&nbsp\;&nbsp\; Craft Sations (One in each lobby of Market Street buildings)</div>\n\n<div>&nbsp\;&nbsp\;&nbsp\;&nbsp\;&nbsp\;&nbsp\;&nbsp\;&nbsp\;&nbsp\;&nbsp\;&nbsp\;&nbsp\; Cookie Stations at Rusty Bucket-private room</div>\n\n<div>&nbsp\;&nbsp\;&nbsp\;&nbsp\;&nbsp\;&nbsp\;&nbsp\;&nbsp\;&nbsp\;&nbsp\;&nbsp\; Jingle Bell Horse &amp\; Buggy Rides (sponsored by New Albany Realty &amp\; New Albany Company)</div>\n\n<div>2-4&nbsp\;&nbsp\; Babes in Toyland - Characters in the Square</div>\n\n<div>&nbsp\;&nbsp\;&nbsp\;&nbsp\;&nbsp\;&nbsp\;&nbsp\;&nbsp\; purchase tickets to show inside Chocolate Octopus</div>\n\n<div>&nbsp\;&nbsp\;&nbsp\;&nbsp\;&nbsp\;&nbsp\;&nbsp\;&nbsp\; Storytime</div>\n\n<div>&nbsp\;2:00 Storytime-Starbucks-&quot\;The Nutcracker&quot\;</div>\n\n<div>2:30 Storytime - Ealy House-&quot\;A Christmas Carol&quot\;</div>\n
LOCATION:Train Ride - in Market Square Storytime - Starbucks and the Ealy House Cookie Decorating in Rusty Bucket and Santa in Library
UID:e.304.203
SEQUENCE:3
DTSTAMP:20260422T070408Z
URL:https://cm.newalbanychamber.com/events/details/holiday-celebration-2008-203
END:VEVENT

END:VCALENDAR
