BEGIN:VCALENDAR
VERSION:2.0
PRODID:-//ChamberMaster//Event Calendar 2.0//EN
METHOD:PUBLISH
X-PUBLISHED-TTL:P3D
REFRESH-INTERVAL:P3D
CALSCALE:GREGORIAN
BEGIN:VEVENT
DTSTART:20091206T190000Z
DTEND:20091206T210000Z
X-MICROSOFT-CDO-ALLDAYEVENT:FALSE
SUMMARY:Holiday Celebration at Plain Township Fire Station
DESCRIPTION:The Plain Township Fire Department is pleased to invite the community to a free Holiday Celebration on Sunday\, December 6th. It will be held at the Fire Station\, 9500 Johnstown Road\, in New Albany from 2 pm until 4 pm. This event will include vists with Santa Claus\, cookies and crafts. Donated toys wil be accepted for the Firefighters for Children Program. For more information call 614-855-7370.
X-ALT-DESC;FMTTYPE=text/html:<div>The Plain Township Fire Department is pleased to invite the community to a free Holiday Celebration on Sunday\, December 6th.&nbsp\;It will be held at&nbsp\;the Fire Station\, 9500 Johnstown Road\, in New Albany from 2&nbsp\;pm&nbsp\;until 4 pm.&nbsp\;This event will include vists with Santa Claus\, cookies and crafts. Donated toys wil be accepted for the Firefighters for Children Program. For more information call 614-855-7370.</div>
LOCATION:Plain Township Fire Station6500 Johnstown Rd.New Albany\, Ohio
UID:e.304.535
SEQUENCE:3
DTSTAMP:20260421T144001Z
URL:https://cm.newalbanychamber.com/events/details/holiday-celebration-at-plain-township-fire-station-12-06-2009-535
END:VEVENT

END:VCALENDAR
