BEGIN:VCALENDAR
VERSION:2.0
PRODID:-//ChamberMaster//Event Calendar 2.0//EN
METHOD:PUBLISH
X-PUBLISHED-TTL:P3D
REFRESH-INTERVAL:P3D
CALSCALE:GREGORIAN
BEGIN:VEVENT
DTSTART:20101205T190000Z
DTEND:20101205T210000Z
X-MICROSOFT-CDO-ALLDAYEVENT:FALSE
SUMMARY:Holiday Celebration in New Albany 2010
DESCRIPTION:Holiday Celebration in New Albany\n\nto be held at the Plain Township Fire Station\n\n9500 Johnstown Rd.\n\n2-4 p.m.\n\n\n\nSounds of the Season will be performed by the New Albany Chours and free craft making thanks to geverous supprt of Chi Thai Restaurant.  Cookie decorating sponsored by the International Association of Firefighters Union #3850.\n\n\n\nSanta Claus will arrive via the fire truck at approx. 2 p.m. visiting with children until 4 in the Fire Safety Education Unit.\n\n\n\nDonation of new toys will be accepted for the "Firefighters 4 Kids" program to help benefit needy familis. Volunteers from Key Bank will help the guests with activities throughout the day. Boy Scouts will also be serving hot chocolate.
X-ALT-DESC;FMTTYPE=text/html:<strong><span style="font-size: 16px">Holiday Celebration in New Albany<br />\n<span style="font-size: 12px">to be held at the Plain Township Fire Station<br />\n9500 Johnstown Rd.<br />\n2-4 p.m.<br />\n<br />\nSounds of the Season will be performed by the New Albany Chours and free craft making thanks to geverous supprt of Chi Thai Restaurant.&nbsp\; Cookie decorating sponsored by the International Association of Firefighters Union #3850.<br />\n<br />\nSanta Claus will arrive via the fire truck at approx. 2 p.m. visiting with children until 4 in the Fire Safety Education Unit.<br />\n<br />\nDonation of new toys will be accepted for the &quot\;Firefighters 4 Kids&quot\; program to help benefit needy familis. Volunteers from Key Bank will help the guests with activities throughout the day. Boy Scouts will also be serving hot chocolate.</span></span></strong>
LOCATION:Plain Township Fire Station 9500 Johnstown Rd. New Albany\, Ohio 43054
UID:e.304.725
SEQUENCE:3
DTSTAMP:20260420T190914Z
URL:https://cm.newalbanychamber.com/events/details/holiday-celebration-in-new-albany-2010-725
END:VEVENT

END:VCALENDAR
