BEGIN:VCALENDAR
VERSION:2.0
PRODID:-//ChamberMaster//Event Calendar 2.0//EN
METHOD:PUBLISH
X-PUBLISHED-TTL:P3D
REFRESH-INTERVAL:P3D
CALSCALE:GREGORIAN
BEGIN:VEVENT
DTSTART;VALUE=DATE:20081206
DTEND;VALUE=DATE:20081207
TRANSP:TRANSPARENT
X-MICROSOFT-CDO-ALLDAYEVENT:TRUE
SUMMARY:Holiday Open House at Decor & You
DESCRIPTION:Decor & You invites you to their Holiday Open House on Saturday\, December 6th from 10am until 4pm with holiday decorating tips at 11:30am and 1:30pm. It will be held at their studio on 95 W. Main Street in New Albany\, 43054. For more information visit www.decorandyouohio.com or call 614-855-1700.
X-ALT-DESC;FMTTYPE=text/html:<div>Decor &amp\; You invites you to their Holiday Open House on Saturday\, December 6th from 10am until 4pm with holiday decorating tips at 11:30am and 1:30pm. It will be held at their studio on 95 W. Main Street in New Albany\, 43054. For more information visit <a href="http://www.decorandyouohio.com">www.decorandyouohio.com</a> or call 614-855-1700.</div>
LOCATION:
UID:e.304.397
SEQUENCE:3
DTSTAMP:20260422T071006Z
URL:https://cm.newalbanychamber.com/events/details/holiday-open-house-at-decor-you-12-06-2008-397
END:VEVENT

END:VCALENDAR
