BEGIN:VCALENDAR
VERSION:2.0
PRODID:-//ChamberMaster//Event Calendar 2.0//EN
METHOD:PUBLISH
X-PUBLISHED-TTL:P3D
REFRESH-INTERVAL:P3D
CALSCALE:GREGORIAN
BEGIN:VEVENT
DTSTART:20071214T043000Z
DTEND:20071213T180000Z
X-MICROSOFT-CDO-ALLDAYEVENT:FALSE
SUMMARY:Holiday Salute & Annual Meeting-2007
DESCRIPTION:Annual Holiday Salute to be held at the Royal American Links Golf Club\,  Galena\, Oh\, 43021 $20 Chamber members\; $22 Guests.  Meeting sponsors: ultimateU Total Health & Anthem Chamber Plan
X-ALT-DESC;FMTTYPE=text/html:Annual Holiday Salute to be held at the Royal American Links Golf Club\,  Galena\, Oh\, 43021 $20 Chamber members\; $22 Guests.  Meeting sponsors: ultimateU Total Health & Anthem Chamber Plan
LOCATION:3300 Miller Paul Rd\, Galena\, Ohio
UID:e.304.1
SEQUENCE:3
DTSTAMP:20260424T121425Z
URL:https://cm.newalbanychamber.com/events/details/holiday-salute-annual-meeting-2007-12-13-2007-1
END:VEVENT

END:VCALENDAR
