BEGIN:VCALENDAR
VERSION:2.0
PRODID:-//ChamberMaster//Event Calendar 2.0//EN
METHOD:PUBLISH
X-PUBLISHED-TTL:P3D
REFRESH-INTERVAL:P3D
CALSCALE:GREGORIAN
BEGIN:VEVENT
DTSTART;VALUE=DATE:20081106
DTEND;VALUE=DATE:20081109
TRANSP:TRANSPARENT
X-MICROSOFT-CDO-ALLDAYEVENT:TRUE
SUMMARY:Holiday Shop Open House in New Albany
DESCRIPTION:Holiday Shop Open House
X-ALT-DESC;FMTTYPE=text/html:<div><font size="2"><strong>Holiday Shop Open House</strong></font></div><div>&nbsp\;</div>
LOCATION:New Albany Chamber members particiapating are:Enjoy the Best of the Season by visiting these local retailers.Chocolate OctopusFines LinesLaBelle maison/Children's NestHayley GalleryLynd's Gourmet FoodsOut of the OrdinaryPoint of ViewTailfeathersTrek BicycleWayside Flower Shop & Gift
UID:e.304.334
SEQUENCE:3
DTSTAMP:20260422T090256Z
URL:https://cm.newalbanychamber.com/events/details/holiday-shop-open-house-in-new-albany-11-06-2008-334
END:VEVENT

END:VCALENDAR
