BEGIN:VCALENDAR
VERSION:2.0
PRODID:-//ChamberMaster//Event Calendar 2.0//EN
METHOD:PUBLISH
X-PUBLISHED-TTL:P3D
REFRESH-INTERVAL:P3D
CALSCALE:GREGORIAN
BEGIN:VEVENT
DTSTART:20101106T130000Z
DTEND:20101106T190000Z
X-MICROSOFT-CDO-ALLDAYEVENT:FALSE
SUMMARY:Hollyday Craft Bazaar
DESCRIPTION:70+ Craft Exhibitors\n\nOnly Hand Crafted Items\n\nCafe-Raffle-Bakesale
X-ALT-DESC;FMTTYPE=text/html:70+ Craft Exhibitors\n<br>Only Hand Crafted Items\n<br>Cafe-Raffle-Bakesale
LOCATION:Church of the Resurrection-New Albany
UID:e.304.689
SEQUENCE:3
DTSTAMP:20260420T192212Z
URL:https://cm.newalbanychamber.com/events/details/hollyday-craft-bazaar-11-06-2010-689
END:VEVENT

END:VCALENDAR
