BEGIN:VCALENDAR
VERSION:2.0
PRODID:-//ChamberMaster//Event Calendar 2.0//EN
METHOD:PUBLISH
X-PUBLISHED-TTL:P3D
REFRESH-INTERVAL:P3D
CALSCALE:GREGORIAN
BEGIN:VEVENT
DTSTART:20091107T140000Z
DTEND:20091107T200000Z
X-MICROSOFT-CDO-ALLDAYEVENT:FALSE
SUMMARY:Hollyday Craft Bazaar
DESCRIPTION:70+ Exhibitors\nCafe?Raffles?Door Prizes\nNo Strollers Please
X-ALT-DESC;FMTTYPE=text/html:70+ Exhibitors\nCafe?Raffles?Door Prizes\nNo Strollers Please\n
LOCATION:Church of the Resurrection Dublin-Granville Rd-New Albany
UID:e.304.529
SEQUENCE:3
DTSTAMP:20260421T143636Z
URL:https://cm.newalbanychamber.com/events/details/hollyday-craft-bazaar-11-07-2009-529
END:VEVENT

END:VCALENDAR
