BEGIN:VCALENDAR
VERSION:2.0
PRODID:-//ChamberMaster//Event Calendar 2.0//EN
METHOD:PUBLISH
X-PUBLISHED-TTL:P3D
REFRESH-INTERVAL:P3D
CALSCALE:GREGORIAN
BEGIN:VEVENT
DTSTART;VALUE=DATE:20080510
DTEND;VALUE=DATE:20080713
TRANSP:TRANSPARENT
X-MICROSOFT-CDO-ALLDAYEVENT:TRUE
SUMMARY:Household Hazardous Waste Collection
DESCRIPTION:They will accept: Flammables:Lighter fluidTurpentineOld GasolineKerosenePropanePaintThinnersAdhesivesPolishesOld Gasoline Mixed with OilUsed OilVehicle Batteries Reactives:CyanidesStrong ChemicalsPool Chemicals Corrosives:Acid & CausticsPaint StrippersDrain CleanersBleach/Household Cleaners Toxics:All Flourscent Light BulbsLawn Chemicals & FertilizersRat PoisonFire ExtinguishersMercury/ Ni-CadInsecticidesAntifreezeLithium Batteries They do not accept:AppliancesAsbestosAmmunitionNeedles & Medical WastePropane Tanks (over 20lbs)ComputersTiresTrash
X-ALT-DESC;FMTTYPE=text/html:<div><u>They will accept:</u></div><div>&nbsp\;</div><div><strong>Flammables:</strong></div><div>Lighter fluid</div><div>Turpentine</div><div>Old Gasoline</div><div>Kerosene</div><div>Propane</div><div>Paint</div><div>Thinners</div><div>Adhesives</div><div>Polishes</div><div>Old Gasoline Mixed with Oil</div><div>Used Oil</div><div>Vehicle Batteries</div><div>&nbsp\;</div><div><strong>Reactives:</strong></div><div>Cyanides</div><div>Strong Chemicals</div><div>Pool Chemicals</div><div>&nbsp\;</div><div><strong>Corrosives:</strong></div><div>Acid &amp\; Caustics</div><div>Paint Strippers</div><div>Drain Cleaners</div><div>Bleach/Household Cleaners</div><div>&nbsp\;</div><div><strong>Toxics:</strong></div><div>All Flourscent Light Bulbs</div><div>Lawn Chemicals &amp\; Fertilizers</div><div>Rat Poison</div><div>Fire Extinguishers</div><div>Mercury/ Ni-Cad</div><div>Insecticides</div><div>Antifreeze</div><div>Lithium Batteries</div><div>&nbsp\;</div><div><u>They do not accept:</u></div><div>Appliances</div><div>Asbestos</div><div>Ammunition</div><div>Needles &amp\; Medical Waste</div><div>Propane Tanks (over 20lbs)</div><div>Computers</div><div>Tires</div><div>Trash</div>
LOCATION:Saturday May 10th 8am-2pm Whitehall/Gahanna John Bishop Park 4850 Etna RoadSaturday July 12th 8am-2pm Jefferson/ Plain Township- New Albany Jefferson Tws. Service Dept. 6620 Havens Corner Road
UID:e.304.214
SEQUENCE:3
DTSTAMP:20260422T161346Z
URL:https://cm.newalbanychamber.com/events/details/household-hazardous-waste-collection-05-10-2008-214
END:VEVENT

END:VCALENDAR
