BEGIN:VCALENDAR
VERSION:2.0
PRODID:-//ChamberMaster//Event Calendar 2.0//EN
METHOD:PUBLISH
X-PUBLISHED-TTL:P3D
REFRESH-INTERVAL:P3D
CALSCALE:GREGORIAN
BEGIN:VEVENT
DTSTART:20100708T230000Z
DTEND:20100709T010000Z
X-MICROSOFT-CDO-ALLDAYEVENT:FALSE
SUMMARY:How Not to Look Old Style Show to benefit New Directions Career Center
DESCRIPTION:Tailfeathers Boutique is hosting a "How Not to Look Old" Style Show to benefit the New Directions Career Center. Stylist and wardrobe consultant Nancy Greff will give fashion and beauty tips that will help you look 10 times younger\, 10 pounds lighter\, and 10 times better.  Come learn how to look as young and good as you feel!  $25 donation for NDCC at the door.  Hors d'oeuvres and drinks provided.
X-ALT-DESC;FMTTYPE=text/html:Tailfeathers Boutique is hosting a "How Not to Look Old" Style Show to benefit the New Directions Career Center. Stylist and wardrobe consultant Nancy Greff will give fashion and beauty tips that will help you look 10 times younger\, 10 pounds lighter\, and 10 times better.  Come learn how to look as young and good as you feel!  $25 donation for NDCC at the door.  Hors d'oeuvres and drinks provided.
LOCATION:Hayley Gallery\, 45 Second St.\, New Albany
UID:e.304.660
SEQUENCE:3
DTSTAMP:20260421T032832Z
URL:https://cm.newalbanychamber.com/events/details/how-not-to-look-old-style-show-to-benefit-new-directions-career-center-07-08-2010-660
END:VEVENT

END:VCALENDAR
