BEGIN:VCALENDAR
VERSION:2.0
PRODID:-//ChamberMaster//Event Calendar 2.0//EN
METHOD:PUBLISH
X-PUBLISHED-TTL:P3D
REFRESH-INTERVAL:P3D
CALSCALE:GREGORIAN
BEGIN:VEVENT
DTSTART:20100512T230000Z
DTEND:20100513T003000Z
X-MICROSOFT-CDO-ALLDAYEVENT:FALSE
SUMMARY:HS Concert Band and Wind Ensemble Concert
DESCRIPTION:
X-ALT-DESC;FMTTYPE=text/html:
LOCATION:McCoy Center for the Arts
UID:e.304.596
SEQUENCE:3
DTSTAMP:20260421T053431Z
URL:https://cm.newalbanychamber.com/events/details/hs-concert-band-and-wind-ensemble-concert-05-12-2010-596
END:VEVENT

END:VCALENDAR
