BEGIN:VCALENDAR
VERSION:2.0
PRODID:-//ChamberMaster//Event Calendar 2.0//EN
METHOD:PUBLISH
X-PUBLISHED-TTL:P3D
REFRESH-INTERVAL:P3D
CALSCALE:GREGORIAN
BEGIN:VEVENT
DTSTART:20110414T213000Z
DTEND:20110414T233000Z
X-MICROSOFT-CDO-ALLDAYEVENT:FALSE
SUMMARY:INC @8000 Open House in the Village of New Albany
DESCRIPTION:Join the Village of New Albany and TechColumbus to celebrate the opening of Inc@8000\, an incubator for startups and small business\, from 5:30 to 7:30 pm\, Thursday\, April 14\, at 8000 Walton Parkway. Inc@8000 is a 16\,000-square-foot hub of entrepreneurial activity that brings innovators together with business executives\, angel investors\, TechColumbus and local and state economic development experts to inspire commerce. \n\n\n\nCheck out the new facility\, network with area professionals\, learn about incubator resources and enjoy appetizers and drinks. The event is free\, but registration is required. \n\n\n\nThe opening is hosted by the Village of New Albany\, the New Albany Company and TechColumbus.  Sponsorship opportunities are available.
X-ALT-DESC;FMTTYPE=text/html:Join the Village of New Albany and TechColumbus to celebrate the opening of Inc@8000\, an incubator for startups and small business\, from 5:30 to 7:30 pm\, Thursday\, April 14\, at 8000 Walton Parkway. Inc@8000 is a 16\,000-square-foot hub of entrepreneurial activity that brings innovators together with business executives\, angel investors\, TechColumbus and local and state economic development experts to inspire commerce. \n<br>\n<br>Check out the new facility\, network with area professionals\, learn about incubator resources and enjoy appetizers and drinks. The event is free\, but registration is required. \n<br>\n<br>The opening is hosted by the Village of New Albany\, the New Albany Company and TechColumbus.  Sponsorship opportunities are available.  
LOCATION:8000 Walton Parkway New Albany\, Ohio 43054
UID:e.304.791
SEQUENCE:3
DTSTAMP:20260420T114052Z
URL:https://cm.newalbanychamber.com/events/details/inc-8000-open-house-in-the-village-of-new-albany-04-14-2011-791
END:VEVENT

END:VCALENDAR
