BEGIN:VCALENDAR
VERSION:2.0
PRODID:-//ChamberMaster//Event Calendar 2.0//EN
METHOD:PUBLISH
X-PUBLISHED-TTL:P3D
REFRESH-INTERVAL:P3D
CALSCALE:GREGORIAN
BEGIN:VEVENT
DTSTART;VALUE=DATE:20080704
DTEND;VALUE=DATE:20080705
TRANSP:TRANSPARENT
X-MICROSOFT-CDO-ALLDAYEVENT:TRUE
SUMMARY:Independence Day Parade & Festival 2008
DESCRIPTION:In celebration of our Independence Day July 4th will be a day filled with activities for the whole family.  A parade will begin at 11:00am.  A concert will be held at 7:00pm.  Fireworks will begin at dusk.
X-ALT-DESC;FMTTYPE=text/html:<div>In celebration of our Independence Day July 4th will be a day filled with activities for the whole family.&nbsp\; A parade will begin at 11:00am.&nbsp\; A concert will be held at 7:00pm.&nbsp\; Fireworks will begin at dusk.</div>\n
LOCATION:Parade will go down the streets of New Albany. Concert will be held on the lawn. Fireworks are visible from many places around the high school. The stadium and nearby practice fields are available for seating. More location details will become available closer to July 4th.
UID:e.304.193
SEQUENCE:3
DTSTAMP:20260422T143739Z
URL:https://cm.newalbanychamber.com/events/details/independence-day-parade-festival-2008-193
END:VEVENT

END:VCALENDAR
