BEGIN:VCALENDAR
VERSION:2.0
PRODID:-//ChamberMaster//Event Calendar 2.0//EN
METHOD:PUBLISH
X-PUBLISHED-TTL:P3D
REFRESH-INTERVAL:P3D
CALSCALE:GREGORIAN
BEGIN:VEVENT
DTSTART;VALUE=DATE:20090704
DTEND;VALUE=DATE:20090705
TRANSP:TRANSPARENT
X-MICROSOFT-CDO-ALLDAYEVENT:TRUE
SUMMARY:Independence Day Parade & Festival 2009
DESCRIPTION:Celebrate the July 4th Holiday in New Albany.\n\nParade step off at 11 a.m.\n\nFree Concert on the New Albany High School begins at 7 p.m.\n\nwith the Regaonomics.\n\nFireworks at Dusk!
X-ALT-DESC;FMTTYPE=text/html:<div>Celebrate the July 4th Holiday in New Albany.</div>\n\n<div>Parade step off at 11 a.m.</div>\n\n<div>Free Concert on the New Albany High School begins at 7 p.m.</div>\n\n<div>with the Regaonomics.</div>\n\n<div>Fireworks at Dusk!</div>\n
LOCATION:Parade Line-up: New Albany Middle School Parade will step off\, continue to Rt. 62\, on to Market Street and back to the New Albany Middle School. Concert On the New Albany High School Lawn at 7p.m. Fireworks at the New Albany High School. Seating will be available in the N.A. Football stadium. Additional public parking available around the school and New Albany Area.
UID:e.304.360
SEQUENCE:3
DTSTAMP:20260421T202541Z
URL:https://cm.newalbanychamber.com/events/details/independence-day-parade-festival-2009-360
END:VEVENT

END:VCALENDAR
