BEGIN:VCALENDAR
VERSION:2.0
PRODID:-//ChamberMaster//Event Calendar 2.0//EN
METHOD:PUBLISH
X-PUBLISHED-TTL:P3D
REFRESH-INTERVAL:P3D
CALSCALE:GREGORIAN
BEGIN:VEVENT
DTSTART:20100703T150000Z
DTEND:20100704T020000Z
X-MICROSOFT-CDO-ALLDAYEVENT:FALSE
SUMMARY:Independence Day Parade & Festival 2010
DESCRIPTION:July 4th Parade and Celebration\n\n \n\nParade Begins at 11 a.m.\, line-up and the New Albany Middle School parking lot.\n\nParade Float entries welcome\, contact the New Albany Community Events board members:  Jodi Boals at 614-855-0674 or Laurie Clouse at 939-5150.\n\n \n\nFestival in the Commons\n\nFestival and Fireworks at the New Albany High School. Entertainment\, food and drink vendors. Activities for children and concessions featuring a variety of food choices. Vendor information\, contact: Ron Kendle at: 325-6295 or Jodi Boals at 855-0674.\n\n \n\nThe concert will feature The Reganomics Band\n\nFireworks will be at Dusk.\n\n \n\nThe New Albany High School football stadium will be opening for viewing.
X-ALT-DESC;FMTTYPE=text/html:<div><span style="font-size: small"><span style=""><strong>July 4th Parade and Celebration</strong></span></span></div>\n\n<div>&nbsp\;</div>\n\n<div><span style="font-size: x-small"><strong>Parade Begins at 11 a.m.\, line-up and the New Albany Middle School parking lot.</strong></span></div>\n\n<div><span style="font-size: x-small"><strong>Parade Float entries welcome\, contact the New Albany Community Events board members:&nbsp\; Jodi Boals at 614-855-0674 or Laurie Clouse at 939-5150.</strong></span></div>\n\n<div>&nbsp\;</div>\n\n<div><span style="font-size: x-small"><strong>Festival in the Commons</strong></span></div>\n\n<div><span style="font-size: x-small"><strong>Festival and Fireworks at the New Albany High School. Entertainment\, food and drink vendors. Activities for children and concessions featuring a variety of food choices. Vendor information\, contact: Ron Kendle at: 325-6295 or Jodi Boals at 855-0674.</strong></span></div>\n\n<div>&nbsp\;</div>\n\n<div><span style="font-size: x-small"><strong>The concert will feature The Reganomics Band</strong></span></div>\n\n<div><span style="font-size: x-small"><strong>Fireworks will be at Dusk.</strong></span></div>\n\n<div>&nbsp\;</div>\n\n<div><span style="font-size: x-small"><strong>The New Albany High School football stadium will be opening for viewing.</strong></span></div>\n
LOCATION:Parade line-up: New Albany Middle School Fireworks and Celebration: New Albany High School\, 7600 Fodor Rd. Football stadium also available for viewing.
UID:e.304.625
SEQUENCE:3
DTSTAMP:20260421T022306Z
URL:https://cm.newalbanychamber.com/events/details/independence-day-parade-festival-2010-625
END:VEVENT

END:VCALENDAR
