BEGIN:VCALENDAR
VERSION:2.0
PRODID:-//ChamberMaster//Event Calendar 2.0//EN
METHOD:PUBLISH
X-PUBLISHED-TTL:P3D
REFRESH-INTERVAL:P3D
CALSCALE:GREGORIAN
BEGIN:VEVENT
DTSTART;VALUE=DATE:20080422
DTEND;VALUE=DATE:20080423
TRANSP:TRANSPARENT
X-MICROSOFT-CDO-ALLDAYEVENT:TRUE
SUMMARY:Induction Ceremony and Dedication
DESCRIPTION:Come and join Eastland-Fairfield Career & Technical Schools for the induction of Eleven Extraordinary individuals into their Hall of Fame and Dedication of their newly completed auto academy and computer-aided design drafting labs.  They are celebrating 40 years of service to students.
X-ALT-DESC;FMTTYPE=text/html:<div>Come and join Eastland-Fairfield Career &amp\; Technical Schools for the induction of Eleven Extraordinary individuals into their Hall of Fame and Dedication of their newly completed auto academy and computer-aided design drafting labs.&nbsp\; They are celebrating 40 years of service to students.</div>
LOCATION:Eastland Career Center-Auto Academy Building4465 South Hamilton RoadGroveport\, Ohio 43125
UID:e.304.218
SEQUENCE:3
DTSTAMP:20260422T184817Z
URL:https://cm.newalbanychamber.com/events/details/induction-ceremony-and-dedication-04-22-2008-218
END:VEVENT

END:VCALENDAR
