BEGIN:VCALENDAR
VERSION:2.0
PRODID:-//ChamberMaster//Event Calendar 2.0//EN
METHOD:PUBLISH
X-PUBLISHED-TTL:P3D
REFRESH-INTERVAL:P3D
CALSCALE:GREGORIAN
BEGIN:VEVENT
DTSTART:20110427T120000Z
DTEND:20110427T210000Z
X-MICROSOFT-CDO-ALLDAYEVENT:FALSE
SUMMARY:Innovate Columbus | The Innovation Summit
DESCRIPTION:INNOVATE COLUMBUS 2011 is an energizing and thought-provoking one-day event that brings together a fresh and eclectic mix of leading-edge keynotes and lab facilitators to share how they leverage innovation to create dramatically increased value for their companies and clients. These thought-leaders - comprised of entrepreneurs\, creatives\, futurists\, generative research specialists\, contract researchers\, and C-level executives - share a common belief in the power and expansive results of the innovation process.\n\n\n\nOur morning Innovation Speakers will focus on Innovation as a discovery process for pioneering ideas. Then our Innovation Labs will continue the exploration with hands-on\, collaborative group sessions. We cap off the day with our featured 2011 Keynote Speakers.\n\n\n\nIf you're passionate about innovation\, you won't want to miss this amazing event!
X-ALT-DESC;FMTTYPE=text/html:INNOVATE COLUMBUS 2011 is an energizing and thought-provoking one-day event that brings together a fresh and eclectic mix of leading-edge keynotes and lab facilitators to share how they leverage innovation to create dramatically increased value for their companies and clients. These thought-leaders - comprised of entrepreneurs\, creatives\, futurists\, generative research specialists\, contract researchers\, and C-level executives - share a common belief in the power and expansive results of the innovation process.\n<br>\n<br>Our morning Innovation Speakers will focus on Innovation as a discovery process for pioneering ideas. Then our Innovation Labs will continue the exploration with hands-on\, collaborative group sessions. We cap off the day with our featured 2011 Keynote Speakers.\n<br>\n<br>If you're passionate about innovation\, you won't want to miss this amazing event!
LOCATION:The Ohio Union
UID:e.304.794
SEQUENCE:3
DTSTAMP:20260420T113443Z
URL:https://cm.newalbanychamber.com/events/details/innovate-columbus-the-innovation-summit-04-27-2011-794
END:VEVENT

END:VCALENDAR
