BEGIN:VCALENDAR
VERSION:2.0
PRODID:-//ChamberMaster//Event Calendar 2.0//EN
METHOD:PUBLISH
X-PUBLISHED-TTL:P3D
REFRESH-INTERVAL:P3D
CALSCALE:GREGORIAN
BEGIN:VEVENT
DTSTART:20100407T230000Z
DTEND:20100408T003000Z
X-MICROSOFT-CDO-ALLDAYEVENT:FALSE
SUMMARY:Jazz Night w/HS & MS Jazz Bands
DESCRIPTION:
X-ALT-DESC;FMTTYPE=text/html:
LOCATION:McCoy Center for the Arts
UID:e.304.585
SEQUENCE:3
DTSTAMP:20260421T071851Z
URL:https://cm.newalbanychamber.com/events/details/jazz-night-w-hs-ms-jazz-bands-04-07-2010-585
END:VEVENT

END:VCALENDAR
