BEGIN:VCALENDAR
VERSION:2.0
PRODID:-//ChamberMaster//Event Calendar 2.0//EN
METHOD:PUBLISH
X-PUBLISHED-TTL:P3D
REFRESH-INTERVAL:P3D
CALSCALE:GREGORIAN
BEGIN:VEVENT
DTSTART;VALUE=DATE:20081211
DTEND;VALUE=DATE:20081214
TRANSP:TRANSPARENT
X-MICROSOFT-CDO-ALLDAYEVENT:TRUE
SUMMARY:Jewelry Trunk Show
DESCRIPTION:Hayley Gallery invites you to their Jewelry Trunk Show on Friday\, December 11\, and Saturday\, December 13\, at 45 Second Street in New Albany\, 43054. They will be showcasing many of the talented jewelry artists of Hayley Gallery as they show off their unique creations and create custom pieces. This event is free of charge. For more information call 614-855-4856 or visit www.hayleygallery.com.
X-ALT-DESC;FMTTYPE=text/html:<div>Hayley Gallery invites you to their Jewelry Trunk Show on Friday\, December 11\, and Saturday\, December 13\, at 45 Second Street in New Albany\, 43054. They will be showcasing many of the&nbsp\;talented jewelry artists of Hayley Gallery as they show off their unique creations and create custom pieces. This event is free of charge. For more information call 614-855-4856 or visit <a href="http://www.hayleygallery.com">www.hayleygallery.com</a>.</div>
LOCATION:
UID:e.304.394
SEQUENCE:3
DTSTAMP:20260422T070944Z
URL:https://cm.newalbanychamber.com/events/details/jewelry-trunk-show-12-11-2008-394
END:VEVENT

END:VCALENDAR
