BEGIN:VCALENDAR
VERSION:2.0
PRODID:-//ChamberMaster//Event Calendar 2.0//EN
METHOD:PUBLISH
X-PUBLISHED-TTL:P3D
REFRESH-INTERVAL:P3D
CALSCALE:GREGORIAN
BEGIN:VEVENT
DTSTART:20090521T233000Z
DTEND:20090522T010000Z
X-MICROSOFT-CDO-ALLDAYEVENT:FALSE
SUMMARY:Jim Morris at 7:30pm at McCoy Center for the Arts
DESCRIPTION:Jim "The Rookie" inspirational and motivational message about the following through your dreams and promises to others connects with all audiences\, you and old.  Jim's meteoric rise from 35 year-old high school teacher to flame-throwing major league pitcher within three months made cinematic history with the release of "The Rookie". For more information call 614-939-2245 or visit their website at www.mccoycenterforthearts.com.
X-ALT-DESC;FMTTYPE=text/html:<div>Jim &quot\;The Rookie&quot\; inspirational and motivational message about the following through your dreams and promises to others connects with all audiences\, you and old.&nbsp\;&nbsp\;Jim&rsquo\;s meteoric rise from 35 year-old high school teacher to flame-throwing major league pitcher within three months made cinematic history with the release of &quot\;The Rookie&quot\;. For more information call 614-939-2245 or visit their website at <a href="http://www.mccoycenterforthearts.com">www.mccoycenterforthearts.com</a>.</div><div>&nbsp\;</div><div>&nbsp\;</div>
LOCATION:McCoy Center100 W. Granville St.\, Route 161New Albany\, Ohio 43054
UID:e.304.346
SEQUENCE:3
DTSTAMP:20260421T234811Z
URL:https://cm.newalbanychamber.com/events/details/jim-morris-at-7-30pm-at-mccoy-center-for-the-arts-05-21-2009-346
END:VEVENT

END:VCALENDAR
