BEGIN:VCALENDAR
VERSION:2.0
PRODID:-//ChamberMaster//Event Calendar 2.0//EN
METHOD:PUBLISH
X-PUBLISHED-TTL:P3D
REFRESH-INTERVAL:P3D
CALSCALE:GREGORIAN
BEGIN:VEVENT
DTSTART:20101211T180000Z
DTEND:20101211T220000Z
X-MICROSOFT-CDO-ALLDAYEVENT:FALSE
SUMMARY:Johnson's Holiday Open House
DESCRIPTION:Johnson's 1st Annual Holiday Open House!\n\n\n\nPictures with Santa\n\nCookie Decorating\n\nFree Samples of Baked Goods\n\nHot Cocoa\n\nHoliday Coloring Contest\n\nDiscount on holiday pie orders\n\n** Donate a gift to the Children's Body Image Foundation and receive a free single scoop of ice cream!!
X-ALT-DESC;FMTTYPE=text/html:<span style="font-size: 14px"><strong><span style="font-size: 16px">Johnson&#39\;s 1st Annual Holiday Open House!</span><br />\n<br />\nPictures with Santa<br />\nCookie Decorating<br />\nFree Samples of Baked Goods<br />\nHot Cocoa<br />\nHoliday Coloring Contest<br />\nDiscount on holiday pie orders<br />\n** Donate a gift to the Children&#39\;s Body Image Foundation and receive a free single scoop of ice cream!!</strong></span>
LOCATION:Johnson's Ice Cream 180 Market Street New Albany
UID:e.304.728
SEQUENCE:3
DTSTAMP:20260420T175023Z
URL:https://cm.newalbanychamber.com/events/details/johnson-s-holiday-open-house-12-11-2010-728
END:VEVENT

END:VCALENDAR
