BEGIN:VCALENDAR
VERSION:2.0
PRODID:-//ChamberMaster//Event Calendar 2.0//EN
METHOD:PUBLISH
X-PUBLISHED-TTL:P3D
REFRESH-INTERVAL:P3D
CALSCALE:GREGORIAN
BEGIN:VEVENT
DTSTART;VALUE=DATE:20090716
DTEND;VALUE=DATE:20090717
TRANSP:TRANSPARENT
X-MICROSOFT-CDO-ALLDAYEVENT:TRUE
SUMMARY:July Chamber Meeting 2009
DESCRIPTION:The New Albany and Gahanna Chamber invite you to discover Creekside in Gahanna for their Summer Progressive Mixer.  This event will be held\, Thursday\, July 16th from 4:30 - 6:30.  Parking will be available in the underground lot.  Start your tour at the Residences at Creekside-hosted by Lu Klaiber & Doug Green with Green & Klaiber Executvie Realtors-Re/Max. Receive your wrist band and map for the evening and travel to the other hosts for hors d'oeuvres and cash bar.  Other hosts include Creekside Conference & Event Center\, Mezzo and Casabella. The evening will end at the Conference center with dessert and coffee\, along with door prizes.
X-ALT-DESC;FMTTYPE=text/html:<div>The New Albany and Gahanna Chamber invite you to discover Creekside in Gahanna for their Summer Progressive Mixer.&nbsp\; This event will be held\, Thursday\, July 16th from 4:30 - 6:30.&nbsp\; Parking will be available in the underground lot.&nbsp\; Start your tour at the Residences at Creekside-hosted by Lu Klaiber &amp\; Doug Green with Green &amp\; Klaiber Executvie Realtors-Re/Max. Receive your wrist band and map for the evening and travel to the other hosts for hors d'oeuvres and cash bar.&nbsp\; Other hosts include Creekside Conference &amp\; Event Center\, Mezzo and Casabella. The evening will end at the Conference center with dessert and coffee\, along with door prizes.&nbsp\;</div>
LOCATION:Creekside at Gahanna: Creekside Conference & Event Center\, Mezzo\, Casabella and the Residence at Creekside. At the Corner of Walnut Street and Mill street in Gahanna. PHOTO'S IN OUR PHOTO GALLERY COURTESY: PAUL MOLITOR-THE PORTRAIT HOUSE.
UID:e.304.366
SEQUENCE:3
DTSTAMP:20260421T202633Z
URL:https://cm.newalbanychamber.com/events/details/july-chamber-meeting-2009-07-16-2009-366
END:VEVENT

END:VCALENDAR
