BEGIN:VCALENDAR
VERSION:2.0
PRODID:-//ChamberMaster//Event Calendar 2.0//EN
METHOD:PUBLISH
X-PUBLISHED-TTL:P3D
REFRESH-INTERVAL:P3D
CALSCALE:GREGORIAN
BEGIN:VEVENT
DTSTART;VALUE=DATE:20090618
DTEND;VALUE=DATE:20090619
TRANSP:TRANSPARENT
X-MICROSOFT-CDO-ALLDAYEVENT:TRUE
SUMMARY:June Chamber Meeting 2009
DESCRIPTION:The New Albany Chamber of Commerce invites you to attend our monthly mixer that will be held on Thursday\, June 18\, of 2009. This mixer will be held at Martini Park in Easton at 4040 Easton Station # E-105\, Building E in Columbus\, 43219. For more information contact the chamber at 614-855-4400.
X-ALT-DESC;FMTTYPE=text/html:<div>The New Albany Chamber of Commerce invites you to attend our monthly&nbsp\;mixer that will be held on Thursday\, June 18\,&nbsp\;of 2009.&nbsp\;This mixer will be held at Martini Park&nbsp\;in Easton at 4040&nbsp\;Easton Station # E-105\, Building E in Columbus\, 43219. For more information contact the chamber at 614-855-4400. &nbsp\;</div>
LOCATION:
UID:e.304.356
SEQUENCE:3
DTSTAMP:20260421T215804Z
URL:https://cm.newalbanychamber.com/events/details/june-chamber-meeting-2009-06-18-2009-356
END:VEVENT

END:VCALENDAR
