BEGIN:VCALENDAR
VERSION:2.0
PRODID:-//ChamberMaster//Event Calendar 2.0//EN
METHOD:PUBLISH
X-PUBLISHED-TTL:P3D
REFRESH-INTERVAL:P3D
CALSCALE:GREGORIAN
BEGIN:VEVENT
DTSTART;VALUE=DATE:20090710
DTEND;VALUE=DATE:20090713
TRANSP:TRANSPARENT
X-MICROSOFT-CDO-ALLDAYEVENT:TRUE
SUMMARY:Junior Muscial Production at the McCoy Center for the Arts
DESCRIPTION:
X-ALT-DESC;FMTTYPE=text/html:
LOCATION:
UID:e.304.363
SEQUENCE:3
DTSTAMP:20260421T220453Z
URL:https://cm.newalbanychamber.com/events/details/junior-muscial-production-at-the-mccoy-center-for-the-arts-07-10-2009-363
END:VEVENT

END:VCALENDAR
