BEGIN:VCALENDAR
VERSION:2.0
PRODID:-//ChamberMaster//Event Calendar 2.0//EN
METHOD:PUBLISH
X-PUBLISHED-TTL:P3D
REFRESH-INTERVAL:P3D
CALSCALE:GREGORIAN
BEGIN:VEVENT
DTSTART:20100930T233000Z
DTEND:20101001T013000Z
X-MICROSOFT-CDO-ALLDAYEVENT:FALSE
SUMMARY:Kelly Corrigan: New York Times Best-Selling Author/ Breast Cancer Survivor
DESCRIPTION:The New York Times best-selling author of The Middle Place and Lift\, Corrigan has a way of connecting with readers and audiences alike. Sharing life experiences from battling breast cancer at the young age of 36\, to learning of her fatherâ??s late-stage cancer\, to the emotional struggles and personal triumphs of raising a family\, she engages listeners with her candid\, down-to-earth style.
X-ALT-DESC;FMTTYPE=text/html:The New York Times best-selling author of The Middle Place and Lift\, Corrigan has a way of connecting with readers and audiences alike. Sharing life experiences from battling breast cancer at the young age of 36\, to learning of her fatherâ??s late-stage cancer\, to the emotional struggles and personal triumphs of raising a family\, she engages listeners with her candid\, down-to-earth style.\n<br>\n<br>
LOCATION:Jeanne B. McCoy Community Center for the Arts located at 100 W. Dublin-Granville Road New Albany\, OH 43054
UID:e.304.699
SEQUENCE:3
DTSTAMP:20260420T235724Z
URL:https://cm.newalbanychamber.com/events/details/kelly-corrigan-new-york-times-best-selling-author-breast-cancer-survivor-09-30-2010-699
END:VEVENT

END:VCALENDAR
