BEGIN:VCALENDAR
VERSION:2.0
PRODID:-//ChamberMaster//Event Calendar 2.0//EN
METHOD:PUBLISH
X-PUBLISHED-TTL:P3D
REFRESH-INTERVAL:P3D
CALSCALE:GREGORIAN
BEGIN:VEVENT
DTSTART:20090226T223000Z
DTEND:20090226T233000Z
X-MICROSOFT-CDO-ALLDAYEVENT:FALSE
SUMMARY:Kick-Off Meeting for New Toastmasters Club in New Albany
DESCRIPTION:Toastmasters International is a network of more than 11\,500 clubs that meet in 92 countries around the world.  We offer a proven and enjoyable way to practice your communication skills.  There are over 50 clubs in the Columbus area\, but not an open club in New Albany. Jerry Smith\, Don Schultz and I know the great advantages of Toastmasters and how it has helped us and we want to share the experience with more people!\nWe invite you to come\, bring a friend or two\, and enjoy an evening of fun\, food and information on a fantastic new club!
X-ALT-DESC;FMTTYPE=text/html:Toastmasters International is a network of more than 11\,500 clubs that meet in 92 countries around the world.  We offer a proven and enjoyable way to practice your communication skills.  There are over 50 clubs in the Columbus area\, but not an open club in New Albany. Jerry Smith\, Don Schultz and I know the great advantages of Toastmasters and how it has helped us and we want to share the experience with more people!\nWe invite you to come\, bring a friend or two\, and enjoy an evening of fun\, food and information on a fantastic new club!
LOCATION:New Albany Library Meeting Room 200 Market St. New Albany\, OH 43054
UID:e.304.425
SEQUENCE:3
DTSTAMP:20260422T041139Z
URL:https://cm.newalbanychamber.com/events/details/kick-off-meeting-for-new-toastmasters-club-in-new-albany-02-26-2009-425
END:VEVENT

END:VCALENDAR
